


BEGIN:VCALENDAR
VERSION:2.0
PRODID:-//eventon.com NONSGML v1.0//EN
BEGIN:VEVENT
UID:69e7411200bdd
DTSTAMP:20260421T021914
DTSTART:20191212T170000Z
DTEND:20200107T000000Z
LOCATION:The Vancouver Aquarium 845 Avison Way\,  Stanley Park\,  Vancouver
SUMMARY:Soak up the Season at the Vancouver Aquarium
DESCRIPTION: Make a splash this festive season at the Vancouver Aquarium. With over 60\, 000 creatures\,  and amazing shows daily\,  there’s something for everyone this holiday season. The holidays aren’t complete without a visit to see Scuba Claus. Watch the jolly old man in the red suit (and black flippers) swim with[..]
END:VEVENT
END:VCALENDAR