


BEGIN:VCALENDAR
VERSION:2.0
PRODID:-//eventon.com NONSGML v1.0//EN
BEGIN:VEVENT
UID:69e73e68df3e6
DTSTAMP:20260421T020752
DTSTART:20190824T200000Z
DTEND:20190824T230000Z
LOCATION:Stanely Park 
SUMMARY:Apocalypse Made Easy! Play-In at Stanley Park
DESCRIPTION: Learn to live off the land with Apocalypse Made Easy! in Stanley Park. Discover how to find water\,  shelter and food in the park—or other wildernesses—in a fun\,  free game about survival\,  suitable for friends and families to play. Play the FREE Apocalypse Made Easy! game before claiming your prize[..]
END:VEVENT
END:VCALENDAR