


BEGIN:VCALENDAR
VERSION:2.0
PRODID:-//eventon.com NONSGML v1.0//EN
BEGIN:VEVENT
UID:69e740ec08656
DTSTAMP:20260421T021836
DTSTART:20190824T190000Z
DTEND:20190824T220000Z
LOCATION:Contemporary Art Gallery 555 Nelson Street
SUMMARY:CAG Family Day | Painting & Pattern
DESCRIPTION: Family Day Painting & Pattern Saturday\,  August 24\,  12 – 3pm Free On one Saturday per month\,  CAG invites all ages to drop-in for free art-making activities that respond to our current exhibitions. Responding to Rolande Souliere’s Frequent Stopping V\,  join us to create your own abstract work in paint and[..]
END:VEVENT
END:VCALENDAR