


BEGIN:VCALENDAR
VERSION:2.0
PRODID:-//eventon.com NONSGML v1.0//EN
BEGIN:VEVENT
UID:69e73de8d7443
DTSTAMP:20260421T020544
DTSTART:20210403T170000Z
DTEND:20210406T000000Z
LOCATION:Taves Farm 333 Gladwin Road
SUMMARY:Drive-Thru Easterfest at Taves Farm
DESCRIPTION: Be a part of our Easter Parade on the farm by dressing up your car for eggs-tra fun! We will be giving prizes for the best car and group decorations. WEBSITE How it Works Join us for a safe and festive Easter activity; from the comfort of your own car\, [..]
END:VEVENT
END:VCALENDAR