


BEGIN:VCALENDAR
VERSION:2.0
PRODID:-//eventon.com NONSGML v1.0//EN
BEGIN:VEVENT
UID:69e7305d016ea
DTSTAMP:20260421T010757
DTSTART:20180312T203000Z
DTEND:20180312T214000Z
LOCATION:
SUMMARY:MAMA MONDAYS AT THE JUICE TRUCK
DESCRIPTION: Mama (& daddy & caretakers!) meet up at The Juice Truck Storefront every Monday for great speakers and to hang out with other parents in a casual and fun environment! Always free\,  no sign up required. Take place every Monday at: 28 W. 5th Avenue & Kids Physio North Van[..]
END:VEVENT
END:VCALENDAR